BEGIN:VCALENDAR
VERSION:2.0
PRODID:-//DV Jansath - ECPv6.0.12//NONSGML v1.0//EN
CALSCALE:GREGORIAN
METHOD:PUBLISH
X-WR-CALNAME:DV Jansath
X-ORIGINAL-URL:https://jansath.darshanacademy.org
X-WR-CALDESC:Events for DV Jansath
REFRESH-INTERVAL;VALUE=DURATION:PT1H
X-Robots-Tag:noindex
X-PUBLISHED-TTL:PT1H
BEGIN:VTIMEZONE
TZID:America/Los_Angeles
BEGIN:DAYLIGHT
TZOFFSETFROM:-0800
TZOFFSETTO:-0700
TZNAME:PDT
DTSTART:20230312T100000
END:DAYLIGHT
BEGIN:STANDARD
TZOFFSETFROM:-0700
TZOFFSETTO:-0800
TZNAME:PST
DTSTART:20231105T090000
END:STANDARD
BEGIN:DAYLIGHT
TZOFFSETFROM:-0800
TZOFFSETTO:-0700
TZNAME:PDT
DTSTART:20240310T100000
END:DAYLIGHT
BEGIN:STANDARD
TZOFFSETFROM:-0700
TZOFFSETTO:-0800
TZNAME:PST
DTSTART:20241103T090000
END:STANDARD
END:VTIMEZONE
BEGIN:VEVENT
DTSTART;TZID=America/Los_Angeles:20240331T000000
DTEND;TZID=America/Los_Angeles:20240331T000000
DTSTAMP:20260420T111957
CREATED:20230510T082241Z
LAST-MODIFIED:20230510T082241Z
UID:3889-1711843200-1711843200@jansath.darshanacademy.org
SUMMARY:PTM (ALL CLASSES)
DESCRIPTION:
URL:https://jansath.darshanacademy.org/event/ptm-all-classes-6/
CATEGORIES:PTM
END:VEVENT
BEGIN:VEVENT
DTSTART;TZID=America/Los_Angeles:20240313T000000
DTEND;TZID=America/Los_Angeles:20240325T000000
DTSTAMP:20260420T111957
CREATED:20230510T082241Z
LAST-MODIFIED:20230510T082241Z
UID:3888-1710288000-1711324800@jansath.darshanacademy.org
SUMMARY:ANNUAL EXAM
DESCRIPTION:
URL:https://jansath.darshanacademy.org/event/annual-exam/
CATEGORIES:EXAMINATION
END:VEVENT
BEGIN:VEVENT
DTSTART;TZID=America/Los_Angeles:20240309T000000
DTEND;TZID=America/Los_Angeles:20240309T000000
DTSTAMP:20260420T111957
CREATED:20230510T082241Z
LAST-MODIFIED:20230510T082241Z
UID:3887-1709942400-1709942400@jansath.darshanacademy.org
SUMMARY:FAREWELL PARTY (VII-VIII)
DESCRIPTION:
URL:https://jansath.darshanacademy.org/event/farewell-party-vii-viii/
CATEGORIES:EVENT
END:VEVENT
BEGIN:VEVENT
DTSTART;TZID=America/Los_Angeles:20240228T000000
DTEND;TZID=America/Los_Angeles:20240228T000000
DTSTAMP:20260420T111957
CREATED:20230510T082241Z
LAST-MODIFIED:20230510T082241Z
UID:3885-1709078400-1709078400@jansath.darshanacademy.org
SUMMARY:NATIONAL SCIENCE DAY
DESCRIPTION:
URL:https://jansath.darshanacademy.org/event/national-science-day/
CATEGORIES:EVENT
END:VEVENT
BEGIN:VEVENT
DTSTART;TZID=America/Los_Angeles:20240228T000000
DTEND;TZID=America/Los_Angeles:20240228T000000
DTSTAMP:20260420T111957
CREATED:20230510T082241Z
LAST-MODIFIED:20230510T082241Z
UID:3886-1709078400-1709078400@jansath.darshanacademy.org
SUMMARY:PTM (ALL CLASSES)
DESCRIPTION:
URL:https://jansath.darshanacademy.org/event/ptm-all-classes-5/
CATEGORIES:PTM
END:VEVENT
BEGIN:VEVENT
DTSTART;TZID=America/Los_Angeles:20240217T000000
DTEND;TZID=America/Los_Angeles:20240217T000000
DTSTAMP:20260420T111957
CREATED:20230510T082233Z
LAST-MODIFIED:20230510T082233Z
UID:3884-1708128000-1708128000@jansath.darshanacademy.org
SUMMARY:PAPER FOLDER MAKING (NUR- II)\, CARROM AND LUDO (III-V)\,CHESS (VI-VIII)
DESCRIPTION:
URL:https://jansath.darshanacademy.org/event/paper-folder-making-nur-ii-carrom-and-ludo-iii-vchess-vi-viii/
CATEGORIES:EVENT
END:VEVENT
BEGIN:VEVENT
DTSTART;TZID=America/Los_Angeles:20240210T000000
DTEND;TZID=America/Los_Angeles:20240210T000000
DTSTAMP:20260420T111957
CREATED:20230510T082233Z
LAST-MODIFIED:20230510T082233Z
UID:3883-1707523200-1707523200@jansath.darshanacademy.org
SUMMARY:STORY TELLING (NUR-III)\,THEMATIC ROLE PLAY (IV-V)\, COLLAGE MAKING (VI-VIII)
DESCRIPTION:
URL:https://jansath.darshanacademy.org/event/story-telling-nur-iiithematic-role-play-iv-v-collage-making-vi-viii/
CATEGORIES:EVENT
END:VEVENT
BEGIN:VEVENT
DTSTART;TZID=America/Los_Angeles:20240206T000000
DTEND;TZID=America/Los_Angeles:20240206T000000
DTSTAMP:20260420T111957
CREATED:20230510T082233Z
LAST-MODIFIED:20230510T082233Z
UID:3882-1707177600-1707177600@jansath.darshanacademy.org
SUMMARY:BIRTHDAY OF SANT KIRPAL SINGH JI MAHARAJ
DESCRIPTION:
URL:https://jansath.darshanacademy.org/event/birthday-of-sant-kirpal-singh-ji-maharaj/
CATEGORIES:HOLIDAY
END:VEVENT
BEGIN:VEVENT
DTSTART;TZID=America/Los_Angeles:20240203T000000
DTEND;TZID=America/Los_Angeles:20240203T000000
DTSTAMP:20260420T111957
CREATED:20230510T082233Z
LAST-MODIFIED:20230510T082233Z
UID:3881-1706918400-1706918400@jansath.darshanacademy.org
SUMMARY:FANCY DRESS COMPETITION(NUR-VIII)
DESCRIPTION:
URL:https://jansath.darshanacademy.org/event/fancy-dress-competitionnur-viii/
CATEGORIES:EVENT
END:VEVENT
BEGIN:VEVENT
DTSTART;TZID=America/Los_Angeles:20240202T000000
DTEND;TZID=America/Los_Angeles:20240206T000000
DTSTAMP:20260420T111957
CREATED:20230510T082233Z
LAST-MODIFIED:20230510T082233Z
UID:3880-1706832000-1707177600@jansath.darshanacademy.org
SUMMARY:KIRPAL WEEK OF LOVING KINDNESS
DESCRIPTION:
URL:https://jansath.darshanacademy.org/event/kirpal-week-of-loving-kindness/
CATEGORIES:EVENT
END:VEVENT
BEGIN:VEVENT
DTSTART;TZID=America/Los_Angeles:20240124T000000
DTEND;TZID=America/Los_Angeles:20240124T000000
DTSTAMP:20260420T111957
CREATED:20230510T082224Z
LAST-MODIFIED:20230510T082224Z
UID:3878-1706054400-1706054400@jansath.darshanacademy.org
SUMMARY:REPUBLIC DAY CELEBRATION
DESCRIPTION:
URL:https://jansath.darshanacademy.org/event/republic-day-celebration/
CATEGORIES:EVENT
END:VEVENT
BEGIN:VEVENT
DTSTART;TZID=America/Los_Angeles:20240120T000000
DTEND;TZID=America/Los_Angeles:20240120T000000
DTSTAMP:20260420T111957
CREATED:20230510T082223Z
LAST-MODIFIED:20230510T082223Z
UID:3877-1705708800-1705708800@jansath.darshanacademy.org
SUMMARY:YELLOW COLOUR DAY (NUR-KG)\, LUDO (II-IV)\, CRICKET (VI-VIII)
DESCRIPTION:
URL:https://jansath.darshanacademy.org/event/yellow-colour-day-nur-kg-ludo-ii-iv-cricket-vi-viii/
CATEGORIES:EVENT
END:VEVENT
BEGIN:VEVENT
DTSTART;TZID=America/Los_Angeles:20240113T000000
DTEND;TZID=America/Los_Angeles:20240113T000000
DTSTAMP:20260420T111957
CREATED:20230510T082223Z
LAST-MODIFIED:20230510T082223Z
UID:3876-1705104000-1705104000@jansath.darshanacademy.org
SUMMARY:ATHELETIC EVENT(VI-VIII)
DESCRIPTION:
URL:https://jansath.darshanacademy.org/event/atheletic-eventvi-viii/
CATEGORIES:EVENT
END:VEVENT
BEGIN:VEVENT
DTSTART;TZID=America/Los_Angeles:20231230T000000
DTEND;TZID=America/Los_Angeles:20240108T000000
DTSTAMP:20260420T111957
CREATED:20230510T082217Z
LAST-MODIFIED:20230510T082217Z
UID:3874-1703894400-1704672000@jansath.darshanacademy.org
SUMMARY:WINTER BREAK
DESCRIPTION:
URL:https://jansath.darshanacademy.org/event/winter-break/
CATEGORIES:HOLIDAY
END:VEVENT
BEGIN:VEVENT
DTSTART;TZID=America/Los_Angeles:20231225T000000
DTEND;TZID=America/Los_Angeles:20231225T000000
DTSTAMP:20260420T111957
CREATED:20230510T082217Z
LAST-MODIFIED:20230510T082217Z
UID:3873-1703462400-1703462400@jansath.darshanacademy.org
SUMMARY:CHRISTMAS
DESCRIPTION:
URL:https://jansath.darshanacademy.org/event/christmas/
CATEGORIES:HOLIDAY
END:VEVENT
BEGIN:VEVENT
DTSTART;TZID=America/Los_Angeles:20231223T000000
DTEND;TZID=America/Los_Angeles:20231223T000000
DTSTAMP:20260420T111957
CREATED:20230510T082217Z
LAST-MODIFIED:20230510T082217Z
UID:3872-1703289600-1703289600@jansath.darshanacademy.org
SUMMARY:CHRISTMAS DAY CELEBRATION-RED COLOR DAY (NUR- KG)\,RACE (I-V)\, LONG JUMP(VI-VIII)
DESCRIPTION:
URL:https://jansath.darshanacademy.org/event/christmas-day-celebration-red-color-day-nur-kgrace-i-v-long-jumpvi-viii/
CATEGORIES:EVENT
END:VEVENT
BEGIN:VEVENT
DTSTART;TZID=America/Los_Angeles:20231209T000000
DTEND;TZID=America/Los_Angeles:20231209T000000
DTSTAMP:20260420T111957
CREATED:20230510T082217Z
LAST-MODIFIED:20230510T082217Z
UID:3871-1702080000-1702080000@jansath.darshanacademy.org
SUMMARY:PTM (ALL CLASSES)
DESCRIPTION:
URL:https://jansath.darshanacademy.org/event/ptm-all-classes-4/
CATEGORIES:PTM
END:VEVENT
BEGIN:VEVENT
DTSTART;TZID=America/Los_Angeles:20231202T000000
DTEND;TZID=America/Los_Angeles:20231202T000000
DTSTAMP:20260420T111957
CREATED:20230510T082158Z
LAST-MODIFIED:20230510T082158Z
UID:3870-1701475200-1701475200@jansath.darshanacademy.org
SUMMARY:POEM RECITATION (NUR- III)\, PAPER BAG MAKING COMPETITION (IV-VIII)
DESCRIPTION:
URL:https://jansath.darshanacademy.org/event/poem-recitation-nur-iii-paper-bag-making-competition-iv-viii/
CATEGORIES:EVENT
END:VEVENT
BEGIN:VEVENT
DTSTART;TZID=America/Los_Angeles:20231130T000000
DTEND;TZID=America/Los_Angeles:20231130T000000
DTSTAMP:20260420T111957
CREATED:20230510T082157Z
LAST-MODIFIED:20230510T082157Z
UID:3869-1701302400-1701302400@jansath.darshanacademy.org
SUMMARY:NATIONAL SPIRITUAL CURRICULUM TALK FOR PARENTS
DESCRIPTION:
URL:https://jansath.darshanacademy.org/event/national-spiritual-curriculum-talk-for-parents-2/
CATEGORIES:PROFESSIONAL DEVELOPMENT PROGRAMME
END:VEVENT
BEGIN:VEVENT
DTSTART;TZID=America/Los_Angeles:20231127T000000
DTEND;TZID=America/Los_Angeles:20231127T000000
DTSTAMP:20260420T111957
CREATED:20230510T082157Z
LAST-MODIFIED:20230510T082157Z
UID:3868-1701043200-1701043200@jansath.darshanacademy.org
SUMMARY:GURU NANAK’S BIRTHDAY
DESCRIPTION:
URL:https://jansath.darshanacademy.org/event/guru-nanaks-birthday/
CATEGORIES:HOLIDAY
END:VEVENT
BEGIN:VEVENT
DTSTART;TZID=America/Los_Angeles:20231125T000000
DTEND;TZID=America/Los_Angeles:20231125T000000
DTSTAMP:20260420T111957
CREATED:20230510T082157Z
LAST-MODIFIED:20230510T082157Z
UID:3867-1700870400-1700870400@jansath.darshanacademy.org
SUMMARY:SINGING COMPETITION (NUR-VIII)
DESCRIPTION:
URL:https://jansath.darshanacademy.org/event/singing-competition-nur-viii/
CATEGORIES:EVENT
END:VEVENT
BEGIN:VEVENT
DTSTART;TZID=America/Los_Angeles:20231124T000000
DTEND;TZID=America/Los_Angeles:20231124T000000
DTSTAMP:20260420T111957
CREATED:20230510T082157Z
LAST-MODIFIED:20230510T082157Z
UID:3866-1700784000-1700784000@jansath.darshanacademy.org
SUMMARY:GURU TEG BAHADUR SHAEEDI DIWAS
DESCRIPTION:
URL:https://jansath.darshanacademy.org/event/guru-teg-bahadur-shaeedi-diwas/
CATEGORIES:HOLIDAY
END:VEVENT
BEGIN:VEVENT
DTSTART;TZID=America/Los_Angeles:20231123T000000
DTEND;TZID=America/Los_Angeles:20231123T000000
DTSTAMP:20260420T111957
CREATED:20230510T082140Z
LAST-MODIFIED:20230510T082140Z
UID:3865-1700697600-1700697600@jansath.darshanacademy.org
SUMMARY:NATIONAL SPIRITUAL CURRICULUM TALK FOR PARENTS
DESCRIPTION:
URL:https://jansath.darshanacademy.org/event/national-spiritual-curriculum-talk-for-parents/
CATEGORIES:PROFESSIONAL DEVELOPMENT PROGRAMME
END:VEVENT
BEGIN:VEVENT
DTSTART;TZID=America/Los_Angeles:20231118T000000
DTEND;TZID=America/Los_Angeles:20231130T000000
DTSTAMP:20260420T111957
CREATED:20230510T082140Z
LAST-MODIFIED:20230510T082140Z
UID:3864-1700265600-1701302400@jansath.darshanacademy.org
SUMMARY:HALF YEARLY EXAM
DESCRIPTION:
URL:https://jansath.darshanacademy.org/event/half-yearly-exam/
CATEGORIES:EXAMINATION
END:VEVENT
BEGIN:VEVENT
DTSTART;TZID=America/Los_Angeles:20231118T000000
DTEND;TZID=America/Los_Angeles:20231118T000000
DTSTAMP:20260420T111957
CREATED:20230510T082140Z
LAST-MODIFIED:20230510T082140Z
UID:3863-1700265600-1700265600@jansath.darshanacademy.org
SUMMARY:DANCE COMPETITION (NUR-III)\,ONE ACT PLAY (IV-V)\,CALLIGRAPHY (VI-VIII)
DESCRIPTION:
URL:https://jansath.darshanacademy.org/event/dance-competition-nur-iiione-act-play-iv-vcalligraphy-vi-viii/
CATEGORIES:EVENT
END:VEVENT
BEGIN:VEVENT
DTSTART;TZID=America/Los_Angeles:20231116T000000
DTEND;TZID=America/Los_Angeles:20231116T000000
DTSTAMP:20260420T111957
CREATED:20230510T082140Z
LAST-MODIFIED:20230510T082140Z
UID:3862-1700092800-1700092800@jansath.darshanacademy.org
SUMMARY:CHILDRENS DAY CELEBRATION
DESCRIPTION:
URL:https://jansath.darshanacademy.org/event/childrens-day-celebration/
CATEGORIES:EVENT
END:VEVENT
BEGIN:VEVENT
DTSTART;TZID=America/Los_Angeles:20231111T000000
DTEND;TZID=America/Los_Angeles:20231114T000000
DTSTAMP:20260420T111957
CREATED:20230510T082139Z
LAST-MODIFIED:20230510T082139Z
UID:3861-1699660800-1699920000@jansath.darshanacademy.org
SUMMARY:DIWALI BREAK
DESCRIPTION:
URL:https://jansath.darshanacademy.org/event/diwali-break/
CATEGORIES:HOLIDAY
END:VEVENT
BEGIN:VEVENT
DTSTART;TZID=America/Los_Angeles:20231110T000000
DTEND;TZID=America/Los_Angeles:20231110T000000
DTSTAMP:20260420T111957
CREATED:20230510T082038Z
LAST-MODIFIED:20230510T082038Z
UID:3860-1699574400-1699574400@jansath.darshanacademy.org
SUMMARY:RANGOLI COMPETITION (VI-VIII)\,CANDLE AND DIYA DECORATION (II- V)
DESCRIPTION:
URL:https://jansath.darshanacademy.org/event/rangoli-competition-vi-viiicandle-and-diya-decoration-ii-v/
CATEGORIES:EVENT
END:VEVENT
BEGIN:VEVENT
DTSTART;TZID=America/Los_Angeles:20231104T000000
DTEND;TZID=America/Los_Angeles:20231104T000000
DTSTAMP:20260420T111957
CREATED:20230510T082038Z
LAST-MODIFIED:20230510T082038Z
UID:3859-1699056000-1699056000@jansath.darshanacademy.org
SUMMARY:RHYME COMPETITION (NUR-KG)STORY TELLING (I-II)\,ROPE SKIPPING (III-VIII)
DESCRIPTION:
URL:https://jansath.darshanacademy.org/event/rhyme-competition-nur-kgstory-telling-i-iirope-skipping-iii-viii/
CATEGORIES:EVENT
END:VEVENT
BEGIN:VEVENT
DTSTART;TZID=America/Los_Angeles:20231102T000000
DTEND;TZID=America/Los_Angeles:20231102T000000
DTSTAMP:20260420T111957
CREATED:20230510T082038Z
LAST-MODIFIED:20230510T082038Z
UID:3858-1698883200-1698883200@jansath.darshanacademy.org
SUMMARY:POERTY FEST
DESCRIPTION:
URL:https://jansath.darshanacademy.org/event/poerty-fest/
CATEGORIES:EVENT
END:VEVENT
END:VCALENDAR