BEGIN:VCALENDAR
VERSION:2.0
PRODID:-//DV Jansath - ECPv6.0.12//NONSGML v1.0//EN
CALSCALE:GREGORIAN
METHOD:PUBLISH
X-WR-CALNAME:DV Jansath
X-ORIGINAL-URL:https://jansath.darshanacademy.org
X-WR-CALDESC:Events for DV Jansath
REFRESH-INTERVAL;VALUE=DURATION:PT1H
X-Robots-Tag:noindex
X-PUBLISHED-TTL:PT1H
BEGIN:VTIMEZONE
TZID:America/Los_Angeles
BEGIN:DAYLIGHT
TZOFFSETFROM:-0800
TZOFFSETTO:-0700
TZNAME:PDT
DTSTART:20230312T100000
END:DAYLIGHT
BEGIN:STANDARD
TZOFFSETFROM:-0700
TZOFFSETTO:-0800
TZNAME:PST
DTSTART:20231105T090000
END:STANDARD
END:VTIMEZONE
BEGIN:VEVENT
DTSTART;TZID=America/Los_Angeles:20231118T000000
DTEND;TZID=America/Los_Angeles:20231118T000000
DTSTAMP:20260420T140516
CREATED:20230510T082140Z
LAST-MODIFIED:20230510T082140Z
UID:3863-1700265600-1700265600@jansath.darshanacademy.org
SUMMARY:DANCE COMPETITION (NUR-III)\,ONE ACT PLAY (IV-V)\,CALLIGRAPHY (VI-VIII)
DESCRIPTION:
URL:https://jansath.darshanacademy.org/event/dance-competition-nur-iiione-act-play-iv-vcalligraphy-vi-viii/
CATEGORIES:EVENT
END:VEVENT
BEGIN:VEVENT
DTSTART;TZID=America/Los_Angeles:20231116T000000
DTEND;TZID=America/Los_Angeles:20231116T000000
DTSTAMP:20260420T140516
CREATED:20230510T082140Z
LAST-MODIFIED:20230510T082140Z
UID:3862-1700092800-1700092800@jansath.darshanacademy.org
SUMMARY:CHILDRENS DAY CELEBRATION
DESCRIPTION:
URL:https://jansath.darshanacademy.org/event/childrens-day-celebration/
CATEGORIES:EVENT
END:VEVENT
BEGIN:VEVENT
DTSTART;TZID=America/Los_Angeles:20231111T000000
DTEND;TZID=America/Los_Angeles:20231114T000000
DTSTAMP:20260420T140516
CREATED:20230510T082139Z
LAST-MODIFIED:20230510T082139Z
UID:3861-1699660800-1699920000@jansath.darshanacademy.org
SUMMARY:DIWALI BREAK
DESCRIPTION:
URL:https://jansath.darshanacademy.org/event/diwali-break/
CATEGORIES:HOLIDAY
END:VEVENT
BEGIN:VEVENT
DTSTART;TZID=America/Los_Angeles:20231110T000000
DTEND;TZID=America/Los_Angeles:20231110T000000
DTSTAMP:20260420T140516
CREATED:20230510T082038Z
LAST-MODIFIED:20230510T082038Z
UID:3860-1699574400-1699574400@jansath.darshanacademy.org
SUMMARY:RANGOLI COMPETITION (VI-VIII)\,CANDLE AND DIYA DECORATION (II- V)
DESCRIPTION:
URL:https://jansath.darshanacademy.org/event/rangoli-competition-vi-viiicandle-and-diya-decoration-ii-v/
CATEGORIES:EVENT
END:VEVENT
BEGIN:VEVENT
DTSTART;TZID=America/Los_Angeles:20231104T000000
DTEND;TZID=America/Los_Angeles:20231104T000000
DTSTAMP:20260420T140516
CREATED:20230510T082038Z
LAST-MODIFIED:20230510T082038Z
UID:3859-1699056000-1699056000@jansath.darshanacademy.org
SUMMARY:RHYME COMPETITION (NUR-KG)STORY TELLING (I-II)\,ROPE SKIPPING (III-VIII)
DESCRIPTION:
URL:https://jansath.darshanacademy.org/event/rhyme-competition-nur-kgstory-telling-i-iirope-skipping-iii-viii/
CATEGORIES:EVENT
END:VEVENT
BEGIN:VEVENT
DTSTART;TZID=America/Los_Angeles:20231102T000000
DTEND;TZID=America/Los_Angeles:20231102T000000
DTSTAMP:20260420T140516
CREATED:20230510T082038Z
LAST-MODIFIED:20230510T082038Z
UID:3858-1698883200-1698883200@jansath.darshanacademy.org
SUMMARY:POERTY FEST
DESCRIPTION:
URL:https://jansath.darshanacademy.org/event/poerty-fest/
CATEGORIES:EVENT
END:VEVENT
BEGIN:VEVENT
DTSTART;TZID=America/Los_Angeles:20231027T000000
DTEND;TZID=America/Los_Angeles:20231027T000000
DTSTAMP:20260420T140516
CREATED:20230510T082038Z
LAST-MODIFIED:20230510T082038Z
UID:3857-1698364800-1698364800@jansath.darshanacademy.org
SUMMARY:PTM (ALL CLASSES)
DESCRIPTION:
URL:https://jansath.darshanacademy.org/event/ptm-all-classes-3/
CATEGORIES:PTM
END:VEVENT
BEGIN:VEVENT
DTSTART;TZID=America/Los_Angeles:20231027T000000
DTEND;TZID=America/Los_Angeles:20231027T000000
DTSTAMP:20260420T140516
CREATED:20230510T082038Z
LAST-MODIFIED:20230510T082038Z
UID:3856-1698364800-1698364800@jansath.darshanacademy.org
SUMMARY:NATIONAL SPIRITUAL CURRICULUM TALK FOR TEACHERS
DESCRIPTION:
URL:https://jansath.darshanacademy.org/event/national-spiritual-curriculum-talk-for-teachers/
CATEGORIES:PROFESSIONAL DEVELOPMENT PROGRAMME
END:VEVENT
BEGIN:VEVENT
DTSTART;TZID=America/Los_Angeles:20231023T000000
DTEND;TZID=America/Los_Angeles:20231024T000000
DTSTAMP:20260420T140516
CREATED:20230510T082022Z
LAST-MODIFIED:20230510T082022Z
UID:3855-1698019200-1698105600@jansath.darshanacademy.org
SUMMARY:DUSSHERA BREAK
DESCRIPTION:
URL:https://jansath.darshanacademy.org/event/dusshera-break/
CATEGORIES:HOLIDAY
END:VEVENT
BEGIN:VEVENT
DTSTART;TZID=America/Los_Angeles:20231021T000000
DTEND;TZID=America/Los_Angeles:20231021T000000
DTSTAMP:20260420T140516
CREATED:20230510T082022Z
LAST-MODIFIED:20230510T082022Z
UID:3854-1697846400-1697846400@jansath.darshanacademy.org
SUMMARY:DUSSHERA CELEBRATION
DESCRIPTION:
URL:https://jansath.darshanacademy.org/event/dusshera-celebration/
CATEGORIES:EVENT
END:VEVENT
BEGIN:VEVENT
DTSTART;TZID=America/Los_Angeles:20231014T000000
DTEND;TZID=America/Los_Angeles:20231014T000000
DTSTAMP:20260420T140516
CREATED:20230510T082022Z
LAST-MODIFIED:20230510T082022Z
UID:3853-1697241600-1697241600@jansath.darshanacademy.org
SUMMARY:INTERNAL SPIRITUAL TALK FOR TEACHERS
DESCRIPTION:
URL:https://jansath.darshanacademy.org/event/internal-spiritual-talk-for-teachers/
CATEGORIES:PROFESSIONAL DEVELOPMENT PROGRAMME
END:VEVENT
BEGIN:VEVENT
DTSTART;TZID=America/Los_Angeles:20231007T000000
DTEND;TZID=America/Los_Angeles:20231007T000000
DTSTAMP:20260420T140516
CREATED:20230510T082021Z
LAST-MODIFIED:20230510T082021Z
UID:3852-1696636800-1696636800@jansath.darshanacademy.org
SUMMARY:SINGING COMPETITION (NUR –III)\, KHO- KHO MATCH (IV-VIII)
DESCRIPTION:
URL:https://jansath.darshanacademy.org/event/singing-competition-nur-iii-kho-kho-match-iv-viii/
CATEGORIES:EVENT
END:VEVENT
BEGIN:VEVENT
DTSTART;TZID=America/Los_Angeles:20231002T000000
DTEND;TZID=America/Los_Angeles:20231002T000000
DTSTAMP:20260420T140516
CREATED:20230510T082021Z
LAST-MODIFIED:20230510T082021Z
UID:3851-1696204800-1696204800@jansath.darshanacademy.org
SUMMARY:GANDHI JAYANTI
DESCRIPTION:
URL:https://jansath.darshanacademy.org/event/gandhi-jayanti/
CATEGORIES:HOLIDAY
END:VEVENT
BEGIN:VEVENT
DTSTART;TZID=America/Los_Angeles:20230930T000000
DTEND;TZID=America/Los_Angeles:20230930T000000
DTSTAMP:20260420T140516
CREATED:20230510T082013Z
LAST-MODIFIED:20230510T082013Z
UID:3850-1696032000-1696032000@jansath.darshanacademy.org
SUMMARY:VEGETARIAN PARTY (NUR- VIII)
DESCRIPTION:
URL:https://jansath.darshanacademy.org/event/vegetarian-party-nur-viii/
CATEGORIES:EVENT
END:VEVENT
BEGIN:VEVENT
DTSTART;TZID=America/Los_Angeles:20230928T000000
DTEND;TZID=America/Los_Angeles:20230928T000000
DTSTAMP:20260420T140516
CREATED:20230510T082013Z
LAST-MODIFIED:20230510T082013Z
UID:3849-1695859200-1695859200@jansath.darshanacademy.org
SUMMARY:EID-E-MILAD
DESCRIPTION:
URL:https://jansath.darshanacademy.org/event/eid-e-milad/
CATEGORIES:HOLIDAY
END:VEVENT
BEGIN:VEVENT
DTSTART;TZID=America/Los_Angeles:20230923T000000
DTEND;TZID=America/Los_Angeles:20230923T000000
DTSTAMP:20260420T140516
CREATED:20230510T082013Z
LAST-MODIFIED:20230510T082013Z
UID:3848-1695427200-1695427200@jansath.darshanacademy.org
SUMMARY:BLUE COLOR DAY (NUR –KG)\, GREETING CARD MAKING COMPETITION (I-VIII)
DESCRIPTION:
URL:https://jansath.darshanacademy.org/event/blue-color-day-nur-kg-greeting-card-making-competition-i-viii/
CATEGORIES:EVENT
END:VEVENT
BEGIN:VEVENT
DTSTART;TZID=America/Los_Angeles:20230921T000000
DTEND;TZID=America/Los_Angeles:20230927T000000
DTSTAMP:20260420T140516
CREATED:20230510T082013Z
LAST-MODIFIED:20230510T082013Z
UID:3847-1695254400-1695772800@jansath.darshanacademy.org
SUMMARY:RAJINDER WEEK OF MEDITATION  AND PEACE
DESCRIPTION:
URL:https://jansath.darshanacademy.org/event/rajinder-week-of-meditation-and-peace/
CATEGORIES:EVENT
END:VEVENT
BEGIN:VEVENT
DTSTART;TZID=America/Los_Angeles:20230920T000000
DTEND;TZID=America/Los_Angeles:20230920T000000
DTSTAMP:20260420T140516
CREATED:20230510T082013Z
LAST-MODIFIED:20230510T082013Z
UID:3846-1695168000-1695168000@jansath.darshanacademy.org
SUMMARY:BIRTHDAY OF SANT RAJINDER SINGH JI MAHARAJ
DESCRIPTION:
URL:https://jansath.darshanacademy.org/event/birthday-of-sant-rajinder-singh-ji-maharaj/
CATEGORIES:HOLIDAY
END:VEVENT
BEGIN:VEVENT
DTSTART;TZID=America/Los_Angeles:20230916T000000
DTEND;TZID=America/Los_Angeles:20230916T000000
DTSTAMP:20260420T140516
CREATED:20230510T081952Z
LAST-MODIFIED:20230510T081952Z
UID:3845-1694822400-1694822400@jansath.darshanacademy.org
SUMMARY:PTM (ALL CLASSES)
DESCRIPTION:
URL:https://jansath.darshanacademy.org/event/ptm-all-classes-2/
CATEGORIES:PTM
END:VEVENT
BEGIN:VEVENT
DTSTART;TZID=America/Los_Angeles:20230914T000000
DTEND;TZID=America/Los_Angeles:20230914T000000
DTSTAMP:20260420T140516
CREATED:20230510T081952Z
LAST-MODIFIED:20230510T081952Z
UID:3844-1694649600-1694649600@jansath.darshanacademy.org
SUMMARY:BIRTHDAY OF SANT DARSHAN SINGH JI MAHARAJ
DESCRIPTION:
URL:https://jansath.darshanacademy.org/event/birthday-of-sant-darshan-singh-ji-maharaj/
CATEGORIES:HOLIDAY
END:VEVENT
BEGIN:VEVENT
DTSTART;TZID=America/Los_Angeles:20230913T000000
DTEND;TZID=America/Los_Angeles:20230913T000000
DTSTAMP:20260420T140516
CREATED:20230510T081952Z
LAST-MODIFIED:20230510T081952Z
UID:3843-1694563200-1694563200@jansath.darshanacademy.org
SUMMARY:HINDI DIWAS CELEBRATION
DESCRIPTION:
URL:https://jansath.darshanacademy.org/event/hindi-diwas-celebration/
CATEGORIES:EVENT
END:VEVENT
BEGIN:VEVENT
DTSTART;TZID=America/Los_Angeles:20230909T000000
DTEND;TZID=America/Los_Angeles:20230909T000000
DTSTAMP:20260420T140516
CREATED:20230510T081952Z
LAST-MODIFIED:20230510T081952Z
UID:3842-1694217600-1694217600@jansath.darshanacademy.org
SUMMARY:MUSICAL CHAIR GAME (NUR- VIII)
DESCRIPTION:
URL:https://jansath.darshanacademy.org/event/musical-chair-game-nur-viii/
CATEGORIES:EVENT
END:VEVENT
BEGIN:VEVENT
DTSTART;TZID=America/Los_Angeles:20230908T000000
DTEND;TZID=America/Los_Angeles:20230913T000000
DTSTAMP:20260420T140516
CREATED:20230510T081952Z
LAST-MODIFIED:20230510T081952Z
UID:3841-1694131200-1694563200@jansath.darshanacademy.org
SUMMARY:DARSHAN WEEK LOVE AND SERVICE
DESCRIPTION:
URL:https://jansath.darshanacademy.org/event/darshan-week-love-and-service/
CATEGORIES:EVENT
END:VEVENT
BEGIN:VEVENT
DTSTART;TZID=America/Los_Angeles:20230907T000000
DTEND;TZID=America/Los_Angeles:20230907T000000
DTSTAMP:20260420T140516
CREATED:20230510T081936Z
LAST-MODIFIED:20230510T081936Z
UID:3840-1694044800-1694044800@jansath.darshanacademy.org
SUMMARY:JANAMASTHMI
DESCRIPTION:
URL:https://jansath.darshanacademy.org/event/janamasthmi/
CATEGORIES:HOLIDAY
END:VEVENT
BEGIN:VEVENT
DTSTART;TZID=America/Los_Angeles:20230906T000000
DTEND;TZID=America/Los_Angeles:20230906T000000
DTSTAMP:20260420T140516
CREATED:20230510T081936Z
LAST-MODIFIED:20230510T081936Z
UID:3839-1693958400-1693958400@jansath.darshanacademy.org
SUMMARY:JANAMASTHMI CELEBRATION
DESCRIPTION:
URL:https://jansath.darshanacademy.org/event/janamasthmi-celebration/
CATEGORIES:EVENT
END:VEVENT
BEGIN:VEVENT
DTSTART;TZID=America/Los_Angeles:20230905T000000
DTEND;TZID=America/Los_Angeles:20230905T000000
DTSTAMP:20260420T140516
CREATED:20230510T081936Z
LAST-MODIFIED:20230510T081936Z
UID:3838-1693872000-1693872000@jansath.darshanacademy.org
SUMMARY:TEACHERS DAY CELEBRATION
DESCRIPTION:
URL:https://jansath.darshanacademy.org/event/teachers-day-celebration/
CATEGORIES:EVENT
END:VEVENT
BEGIN:VEVENT
DTSTART;TZID=America/Los_Angeles:20230831T000000
DTEND;TZID=America/Los_Angeles:20230831T000000
DTSTAMP:20260420T140516
CREATED:20230510T081936Z
LAST-MODIFIED:20230510T081936Z
UID:3837-1693440000-1693440000@jansath.darshanacademy.org
SUMMARY:RAKSHA BANDHAN
DESCRIPTION:
URL:https://jansath.darshanacademy.org/event/raksha-bandhan/
CATEGORIES:HOLIDAY
END:VEVENT
BEGIN:VEVENT
DTSTART;TZID=America/Los_Angeles:20230829T000000
DTEND;TZID=America/Los_Angeles:20230829T000000
DTSTAMP:20260420T140516
CREATED:20230510T081936Z
LAST-MODIFIED:20230510T081936Z
UID:3836-1693267200-1693267200@jansath.darshanacademy.org
SUMMARY:NATIONAL SPORTS DAY
DESCRIPTION:
URL:https://jansath.darshanacademy.org/event/national-sports-day/
CATEGORIES:EVENT
END:VEVENT
BEGIN:VEVENT
DTSTART;TZID=America/Los_Angeles:20230826T000000
DTEND;TZID=America/Los_Angeles:20230826T000000
DTSTAMP:20260420T140516
CREATED:20230510T081926Z
LAST-MODIFIED:20230510T081926Z
UID:3835-1693008000-1693008000@jansath.darshanacademy.org
SUMMARY:RAKHI MAKING COMPETITION(NUR-KG)
DESCRIPTION:
URL:https://jansath.darshanacademy.org/event/rakhi-making-competitionnur-kg/
CATEGORIES:EVENT
END:VEVENT
BEGIN:VEVENT
DTSTART;TZID=America/Los_Angeles:20230816T000000
DTEND;TZID=America/Los_Angeles:20230828T000000
DTSTAMP:20260420T140516
CREATED:20230510T081926Z
LAST-MODIFIED:20230510T081926Z
UID:3834-1692144000-1693180800@jansath.darshanacademy.org
SUMMARY:QUATERLY EXAM
DESCRIPTION:
URL:https://jansath.darshanacademy.org/event/quaterly-exam/
CATEGORIES:EXAMINATION
END:VEVENT
END:VCALENDAR