BEGIN:VCALENDAR
VERSION:2.0
PRODID:-//DV Jansath - ECPv6.0.12//NONSGML v1.0//EN
CALSCALE:GREGORIAN
METHOD:PUBLISH
X-WR-CALNAME:DV Jansath
X-ORIGINAL-URL:https://jansath.darshanacademy.org
X-WR-CALDESC:Events for DV Jansath
REFRESH-INTERVAL;VALUE=DURATION:PT1H
X-Robots-Tag:noindex
X-PUBLISHED-TTL:PT1H
BEGIN:VTIMEZONE
TZID:America/Los_Angeles
BEGIN:DAYLIGHT
TZOFFSETFROM:-0800
TZOFFSETTO:-0700
TZNAME:PDT
DTSTART:20220313T100000
END:DAYLIGHT
BEGIN:STANDARD
TZOFFSETFROM:-0700
TZOFFSETTO:-0800
TZNAME:PST
DTSTART:20221106T090000
END:STANDARD
BEGIN:DAYLIGHT
TZOFFSETFROM:-0800
TZOFFSETTO:-0700
TZNAME:PDT
DTSTART:20230312T100000
END:DAYLIGHT
BEGIN:STANDARD
TZOFFSETFROM:-0700
TZOFFSETTO:-0800
TZNAME:PST
DTSTART:20231105T090000
END:STANDARD
END:VTIMEZONE
BEGIN:VEVENT
DTSTART;TZID=America/Los_Angeles:20230404T000000
DTEND;TZID=America/Los_Angeles:20230404T000000
DTSTAMP:20260423T041258
CREATED:20230510T081752Z
LAST-MODIFIED:20230510T081752Z
UID:3801-1680566400-1680566400@jansath.darshanacademy.org
SUMMARY:MAHAVEER JAYANTI
DESCRIPTION:
URL:https://jansath.darshanacademy.org/event/mahaveer-jayanti/
CATEGORIES:HOLIDAY
END:VEVENT
BEGIN:VEVENT
DTSTART;TZID=America/Los_Angeles:20230401T000000
DTEND;TZID=America/Los_Angeles:20230401T000000
DTSTAMP:20260423T041258
CREATED:20230510T081752Z
LAST-MODIFIED:20230510T081752Z
UID:3800-1680307200-1680307200@jansath.darshanacademy.org
SUMMARY:NEW SESSION BEGINS(NUR-VIII) SPECIAL ASSEMBLY
DESCRIPTION:
URL:https://jansath.darshanacademy.org/event/new-session-beginsnur-viii-special-assembly/
CATEGORIES:EVENT
END:VEVENT
BEGIN:VEVENT
DTSTART;TZID=America/Los_Angeles:20230126T000000
DTEND;TZID=America/Los_Angeles:20230126T000000
DTSTAMP:20260423T041258
CREATED:20230510T082224Z
LAST-MODIFIED:20230510T082224Z
UID:3879-1674691200-1674691200@jansath.darshanacademy.org
SUMMARY:REPUBLIC DAY
DESCRIPTION:
URL:https://jansath.darshanacademy.org/event/republic-day/
CATEGORIES:HOLIDAY
END:VEVENT
BEGIN:VEVENT
DTSTART;TZID=America/Los_Angeles:20230105T000000
DTEND;TZID=America/Los_Angeles:20230105T000000
DTSTAMP:20260423T041258
CREATED:20230510T082218Z
LAST-MODIFIED:20230510T082218Z
UID:3875-1672876800-1672876800@jansath.darshanacademy.org
SUMMARY:NATIONAL WORKSHOP ON SPIRITUAL CURRICULUM TEACHING TIPS
DESCRIPTION:
URL:https://jansath.darshanacademy.org/event/national-workshop-on-spiritual-curriculum-teaching-tips-2/
CATEGORIES:PROFESSIONAL DEVELOPMENT PROGRAMME
END:VEVENT
BEGIN:VEVENT
DTSTART;TZID=America/Los_Angeles:20220815T000000
DTEND;TZID=America/Los_Angeles:20220815T000000
DTSTAMP:20260423T041258
CREATED:20230510T081926Z
LAST-MODIFIED:20230510T081926Z
UID:3833-1660521600-1660521600@jansath.darshanacademy.org
SUMMARY:INDEPENDENCE DAY
DESCRIPTION:
URL:https://jansath.darshanacademy.org/event/independence-day/
CATEGORIES:HOLIDAY
END:VEVENT
END:VCALENDAR